BEGIN:VCALENDAR
VERSION:2.0
PRODID:-//Network of Community Options - ECPv6.15.17.1//NONSGML v1.0//EN
CALSCALE:GREGORIAN
METHOD:PUBLISH
X-ORIGINAL-URL:https://networkofcommunityoptions.org
X-WR-CALDESC:Events for Network of Community Options
REFRESH-INTERVAL;VALUE=DURATION:PT1H
X-Robots-Tag:noindex
X-PUBLISHED-TTL:PT1H
BEGIN:VTIMEZONE
TZID:America/Chicago
BEGIN:DAYLIGHT
TZOFFSETFROM:-0600
TZOFFSETTO:-0500
TZNAME:CDT
DTSTART:20240310T080000
END:DAYLIGHT
BEGIN:STANDARD
TZOFFSETFROM:-0500
TZOFFSETTO:-0600
TZNAME:CST
DTSTART:20241103T070000
END:STANDARD
BEGIN:DAYLIGHT
TZOFFSETFROM:-0600
TZOFFSETTO:-0500
TZNAME:CDT
DTSTART:20250309T080000
END:DAYLIGHT
BEGIN:STANDARD
TZOFFSETFROM:-0500
TZOFFSETTO:-0600
TZNAME:CST
DTSTART:20251102T070000
END:STANDARD
BEGIN:DAYLIGHT
TZOFFSETFROM:-0600
TZOFFSETTO:-0500
TZNAME:CDT
DTSTART:20260308T080000
END:DAYLIGHT
BEGIN:STANDARD
TZOFFSETFROM:-0500
TZOFFSETTO:-0600
TZNAME:CST
DTSTART:20261101T070000
END:STANDARD
END:VTIMEZONE
BEGIN:VEVENT
DTSTART;VALUE=DATE:20250920
DTEND;VALUE=DATE:20250921
DTSTAMP:20260424T090913
CREATED:20250530T200743Z
LAST-MODIFIED:20250828T151337Z
UID:10000004-1758326400-1758412799@networkofcommunityoptions.org
SUMMARY:Boots and Bling Dance
DESCRIPTION:Join us for a lively evening of music\, dancing\, and community connection. Whether you love to dance or just enjoy good company\, this event offers something for everyone.
URL:https://networkofcommunityoptions.org/event/boots-and-bling-dance/
LOCATION:Desha Community Center\, 973 Heber Springs Rd\, Batesville\, AR\, 72501\, United States
END:VEVENT
BEGIN:VEVENT
DTSTART;TZID=America/Chicago:20250804T180000
DTEND;TZID=America/Chicago:20250804T213000
DTSTAMP:20260424T090913
CREATED:20250530T200639Z
LAST-MODIFIED:20250707T155052Z
UID:10000003-1754330400-1754343000@networkofcommunityoptions.org
SUMMARY:Movie Night at Melba
DESCRIPTION:Get ready for an unforgettable evening at the Melba Theater with a special Movie Night exclusively for NCO clients and employees! Enjoy a family-friendly film (to be announced) with free admission\, plus complimentary popcorn and drinks to make your night even sweeter. \nDoors open at 5:30 PM\, so come early to grab your seat! NCO T-shirts will also be available for purchase (cash or check only)\, and attendees may buy other concessions if they wish. \nDon’t miss this opportunity to relax\, connect with your NCO community\, and enjoy a night at the movies!
URL:https://networkofcommunityoptions.org/event/movie-night-at-melba/
LOCATION:Melba Theater\, 115 W Main St\, Batesville\, AR\, 72501\, United States
ATTACH;FMTTYPE=image/png:https://networkofcommunityoptions.org/wp-content/uploads/2025/05/Movie-Night-at-Melba-flyer.png
END:VEVENT
BEGIN:VEVENT
DTSTART;VALUE=DATE:20250611
DTEND;VALUE=DATE:20250612
DTSTAMP:20260424T090913
CREATED:20250530T200509Z
LAST-MODIFIED:20250606T152423Z
UID:10000002-1749600000-1749686399@networkofcommunityoptions.org
SUMMARY:Batesville Business Expo
DESCRIPTION:Connect with local businesses\, community leaders\, and neighbors at this annual expo. Learn about services\, explore opportunities\, and support small businesses in the area.
URL:https://networkofcommunityoptions.org/event/batesville-business-expo/
LOCATION:Batesville Community Center\, 1420 20th St\, Batesville\, AR\, 72501\, United States
ATTACH;FMTTYPE=image/jpeg:https://networkofcommunityoptions.org/wp-content/uploads/2025/05/batesville-business-expo2.jpg
END:VEVENT
BEGIN:VEVENT
DTSTART;VALUE=DATE:20250606
DTEND;VALUE=DATE:20250607
DTSTAMP:20260424T090913
CREATED:20250530T200403Z
LAST-MODIFIED:20250606T151022Z
UID:10000001-1749168000-1749254399@networkofcommunityoptions.org
SUMMARY:Jonesboro Fun Day and Snow Cone Social
DESCRIPTION:Celebrate the start of summer with an afternoon of outdoor games\, snow cones\, and family-friendly fun. It’s a great opportunity to enjoy time together\, meet new people\, and soak up some sunshine.
URL:https://networkofcommunityoptions.org/event/jonesboro-fun-day-and-snow-cone-social/
LOCATION:Miracle League Park\, 5101 Co Rd 126\, Jonesboro\, AR\, 72404\, United States
ATTACH;FMTTYPE=image/jpeg:https://networkofcommunityoptions.org/wp-content/uploads/2025/05/deepthi-clicks-s6x3z_vDciw-unsplash-scaled.jpg
END:VEVENT
END:VCALENDAR