BEGIN:VCALENDAR
VERSION:2.0
PRODID:-//Network of Community Options - ECPv6.15.17.1//NONSGML v1.0//EN
CALSCALE:GREGORIAN
METHOD:PUBLISH
X-ORIGINAL-URL:https://networkofcommunityoptions.org
X-WR-CALDESC:Events for Network of Community Options
REFRESH-INTERVAL;VALUE=DURATION:PT1H
X-Robots-Tag:noindex
X-PUBLISHED-TTL:PT1H
BEGIN:VTIMEZONE
TZID:America/Chicago
BEGIN:DAYLIGHT
TZOFFSETFROM:-0600
TZOFFSETTO:-0500
TZNAME:CDT
DTSTART:20250309T080000
END:DAYLIGHT
BEGIN:STANDARD
TZOFFSETFROM:-0500
TZOFFSETTO:-0600
TZNAME:CST
DTSTART:20251102T070000
END:STANDARD
BEGIN:DAYLIGHT
TZOFFSETFROM:-0600
TZOFFSETTO:-0500
TZNAME:CDT
DTSTART:20260308T080000
END:DAYLIGHT
BEGIN:STANDARD
TZOFFSETFROM:-0500
TZOFFSETTO:-0600
TZNAME:CST
DTSTART:20261101T070000
END:STANDARD
BEGIN:DAYLIGHT
TZOFFSETFROM:-0600
TZOFFSETTO:-0500
TZNAME:CDT
DTSTART:20270314T080000
END:DAYLIGHT
BEGIN:STANDARD
TZOFFSETFROM:-0500
TZOFFSETTO:-0600
TZNAME:CST
DTSTART:20271107T070000
END:STANDARD
END:VTIMEZONE
BEGIN:VEVENT
DTSTART;TZID=America/Chicago:20260417T080000
DTEND;TZID=America/Chicago:20260417T120000
DTSTAMP:20260424T103738
CREATED:20251215T195759Z
LAST-MODIFIED:20260310T210239Z
UID:10000021-1776412800-1776427200@networkofcommunityoptions.org
SUMMARY:Special Olympics Arkansas Individual Basketball Skills
DESCRIPTION:This event is hosted by Special Olympics Arkansas Area 16 and will be held at Heber Springs High School\, 1100 W. Pine St.\, Heber Springs\, AR 72543.
URL:https://networkofcommunityoptions.org/event/special-olympics-arkansas-individual-basketball-skills/
END:VEVENT
BEGIN:VEVENT
DTSTART;VALUE=DATE:20260525
DTEND;VALUE=DATE:20260526
DTSTAMP:20260424T103738
CREATED:20250812T142924Z
LAST-MODIFIED:20250812T142924Z
UID:10000010-1779667200-1779753599@networkofcommunityoptions.org
SUMMARY:Office Closed for Memorial Day
DESCRIPTION:
URL:https://networkofcommunityoptions.org/event/office-closed-for-memorial-day/
ATTACH;FMTTYPE=image/png:https://networkofcommunityoptions.org/wp-content/uploads/2025/08/NCO-Office-closed.png
END:VEVENT
BEGIN:VEVENT
DTSTART;VALUE=DATE:20260703
DTEND;VALUE=DATE:20260704
DTSTAMP:20260424T103738
CREATED:20250812T143049Z
LAST-MODIFIED:20250812T143049Z
UID:10000012-1783036800-1783123199@networkofcommunityoptions.org
SUMMARY:Office Closed for Independence Day
DESCRIPTION:This day is observed on a Friday due to the holiday falling on a weekend.
URL:https://networkofcommunityoptions.org/event/office-closed-for-independence-day/
ATTACH;FMTTYPE=image/png:https://networkofcommunityoptions.org/wp-content/uploads/2025/08/NCO-Office-closed.png
END:VEVENT
BEGIN:VEVENT
DTSTART;VALUE=DATE:20260907
DTEND;VALUE=DATE:20260908
DTSTAMP:20260424T103738
CREATED:20250812T143117Z
LAST-MODIFIED:20250812T143201Z
UID:10000013-1788739200-1788825599@networkofcommunityoptions.org
SUMMARY:Office Closed for Labor Day
DESCRIPTION:
URL:https://networkofcommunityoptions.org/event/office-closed-for-labor-day/
ATTACH;FMTTYPE=image/png:https://networkofcommunityoptions.org/wp-content/uploads/2025/08/NCO-Office-closed.png
END:VEVENT
BEGIN:VEVENT
DTSTART;VALUE=DATE:20261111
DTEND;VALUE=DATE:20261112
DTSTAMP:20260424T103738
CREATED:20250812T143156Z
LAST-MODIFIED:20250812T143156Z
UID:10000014-1794355200-1794441599@networkofcommunityoptions.org
SUMMARY:Office Closed for Veterans Day
DESCRIPTION:
URL:https://networkofcommunityoptions.org/event/office-closed-for-veterans-day/
ATTACH;FMTTYPE=image/png:https://networkofcommunityoptions.org/wp-content/uploads/2025/08/NCO-Office-closed.png
END:VEVENT
BEGIN:VEVENT
DTSTART;VALUE=DATE:20261126
DTEND;VALUE=DATE:20261127
DTSTAMP:20260424T103738
CREATED:20250812T143235Z
LAST-MODIFIED:20260309T201254Z
UID:10000015-1795651200-1795737599@networkofcommunityoptions.org
SUMMARY:Office Closed for Thanksgiving
DESCRIPTION:
URL:https://networkofcommunityoptions.org/event/office-closed-for-thanksgiving/
ATTACH;FMTTYPE=image/png:https://networkofcommunityoptions.org/wp-content/uploads/2025/08/NCO-Office-closed.png
END:VEVENT
BEGIN:VEVENT
DTSTART;VALUE=DATE:20261225
DTEND;VALUE=DATE:20261226
DTSTAMP:20260424T103738
CREATED:20250812T143311Z
LAST-MODIFIED:20260309T201746Z
UID:10000016-1798156800-1798243199@networkofcommunityoptions.org
SUMMARY:Office Closed for Christmas
DESCRIPTION:
URL:https://networkofcommunityoptions.org/event/office-closed-for-christmas/
ATTACH;FMTTYPE=image/png:https://networkofcommunityoptions.org/wp-content/uploads/2025/08/NCO-Office-closed.png
END:VEVENT
END:VCALENDAR