BEGIN:VCALENDAR
VERSION:2.0
PRODID:-//Network of Community Options - ECPv6.15.17.1//NONSGML v1.0//EN
CALSCALE:GREGORIAN
METHOD:PUBLISH
X-WR-CALNAME:Network of Community Options
X-ORIGINAL-URL:https://networkofcommunityoptions.org
X-WR-CALDESC:Events for Network of Community Options
REFRESH-INTERVAL;VALUE=DURATION:PT1H
X-Robots-Tag:noindex
X-PUBLISHED-TTL:PT1H
BEGIN:VTIMEZONE
TZID:America/Chicago
BEGIN:DAYLIGHT
TZOFFSETFROM:-0600
TZOFFSETTO:-0500
TZNAME:CDT
DTSTART:20240310T080000
END:DAYLIGHT
BEGIN:STANDARD
TZOFFSETFROM:-0500
TZOFFSETTO:-0600
TZNAME:CST
DTSTART:20241103T070000
END:STANDARD
BEGIN:DAYLIGHT
TZOFFSETFROM:-0600
TZOFFSETTO:-0500
TZNAME:CDT
DTSTART:20250309T080000
END:DAYLIGHT
BEGIN:STANDARD
TZOFFSETFROM:-0500
TZOFFSETTO:-0600
TZNAME:CST
DTSTART:20251102T070000
END:STANDARD
BEGIN:DAYLIGHT
TZOFFSETFROM:-0600
TZOFFSETTO:-0500
TZNAME:CDT
DTSTART:20260308T080000
END:DAYLIGHT
BEGIN:STANDARD
TZOFFSETFROM:-0500
TZOFFSETTO:-0600
TZNAME:CST
DTSTART:20261101T070000
END:STANDARD
BEGIN:DAYLIGHT
TZOFFSETFROM:-0600
TZOFFSETTO:-0500
TZNAME:CDT
DTSTART:20270314T080000
END:DAYLIGHT
BEGIN:STANDARD
TZOFFSETFROM:-0500
TZOFFSETTO:-0600
TZNAME:CST
DTSTART:20271107T070000
END:STANDARD
END:VTIMEZONE
BEGIN:VEVENT
DTSTART;TZID=America/Chicago:20260417T080000
DTEND;TZID=America/Chicago:20260417T120000
DTSTAMP:20260424T073758
CREATED:20251215T195759Z
LAST-MODIFIED:20260310T210239Z
UID:10000021-1776412800-1776427200@networkofcommunityoptions.org
SUMMARY:Special Olympics Arkansas Individual Basketball Skills
DESCRIPTION:This event is hosted by Special Olympics Arkansas Area 16 and will be held at Heber Springs High School\, 1100 W. Pine St.\, Heber Springs\, AR 72543.
URL:https://networkofcommunityoptions.org/event/special-olympics-arkansas-individual-basketball-skills/
LOCATION:AR
END:VEVENT
BEGIN:VEVENT
DTSTART;TZID=America/Chicago:20260318T093000
DTEND;TZID=America/Chicago:20260318T123000
DTSTAMP:20260424T073758
CREATED:20260310T210507Z
LAST-MODIFIED:20260310T210507Z
UID:10000025-1773826200-1773837000@networkofcommunityoptions.org
SUMMARY:Special Olympics Basketball Skills / Salem
DESCRIPTION:
URL:https://networkofcommunityoptions.org/event/special-olympics-basketball-skills-salem/
LOCATION:AR
END:VEVENT
BEGIN:VEVENT
DTSTART;TZID=America/Chicago:20260313T193000
DTEND;TZID=America/Chicago:20260313T193000
DTSTAMP:20260424T073758
CREATED:20260309T201547Z
LAST-MODIFIED:20260309T202751Z
UID:10000023-1773430200-1773430200@networkofcommunityoptions.org
SUMMARY:St. Patrick's Day Party
DESCRIPTION:Please join us at the Ash Flat Church of Christ for food and fun!
URL:https://networkofcommunityoptions.org/event/st-patricks-day-party/
LOCATION:AR
END:VEVENT
BEGIN:VEVENT
DTSTART;TZID=America/Chicago:20260310T090000
DTEND;TZID=America/Chicago:20260310T120000
DTSTAMP:20260424T073758
CREATED:20260310T205816Z
LAST-MODIFIED:20260310T205816Z
UID:10000024-1773133200-1773144000@networkofcommunityoptions.org
SUMMARY:Special Olympics Arkansas Area 16 Spring Games
DESCRIPTION:This is an annual event held at the Batesville High School Pioneer Stadium.
URL:https://networkofcommunityoptions.org/event/special-olympics-arkansas-area-16-spring-games/
LOCATION:AR
ATTACH;FMTTYPE=image/png:https://networkofcommunityoptions.org/wp-content/uploads/2026/03/SOAR-logo-1.png
END:VEVENT
BEGIN:VEVENT
DTSTART;TZID=America/Chicago:20260109T170000
DTEND;TZID=America/Chicago:20260109T190000
DTSTAMP:20260424T073758
CREATED:20251215T200353Z
LAST-MODIFIED:20251215T200353Z
UID:10000022-1767978000-1767985200@networkofcommunityoptions.org
SUMMARY:NCO Sock Hop
DESCRIPTION:Come ready to dance the night away to the musical stylings of the 1950s! This event will be held at the Lyon College Cafeteria in Batesville and is open to all NCO clients\, employees\, guardians and families. In the event of inclement weather\, this event will be moved to Jan. 16.
URL:https://networkofcommunityoptions.org/event/nco-sock-hop/
LOCATION:AR
END:VEVENT
BEGIN:VEVENT
DTSTART;VALUE=DATE:20260101
DTEND;VALUE=DATE:20260102
DTSTAMP:20260424T073758
CREATED:20250812T142515Z
LAST-MODIFIED:20250812T142829Z
UID:10000007-1767225600-1767311999@networkofcommunityoptions.org
SUMMARY:Office Closed for New Year's Day
DESCRIPTION:
URL:https://networkofcommunityoptions.org/event/nco-office-closed-nyd/
LOCATION:AR
ATTACH;FMTTYPE=image/png:https://networkofcommunityoptions.org/wp-content/uploads/2025/08/NCO-Office-closed.png
END:VEVENT
BEGIN:VEVENT
DTSTART;TZID=America/Chicago:20251206T143000
DTEND;TZID=America/Chicago:20251206T170000
DTSTAMP:20260424T073758
CREATED:20251205T165641Z
LAST-MODIFIED:20251205T165641Z
UID:10000020-1765031400-1765040400@networkofcommunityoptions.org
SUMMARY:New Event
DESCRIPTION:Some text here.
URL:https://networkofcommunityoptions.org/event/new-event/
LOCATION:AR
ATTACH;FMTTYPE=image/jpeg:https://networkofcommunityoptions.org/wp-content/uploads/2025/10/WCCEC-option2.jpg
END:VEVENT
BEGIN:VEVENT
DTSTART;VALUE=DATE:20251111
DTEND;VALUE=DATE:20251112
DTSTAMP:20260424T073758
CREATED:20251027T173320Z
LAST-MODIFIED:20251027T173342Z
UID:10000019-1762819200-1762905599@networkofcommunityoptions.org
SUMMARY:Office Closed for Veterans Day
DESCRIPTION:
URL:https://networkofcommunityoptions.org/event/office-closed-for-veterans-day-2/
LOCATION:AR
ATTACH;FMTTYPE=image/png:https://networkofcommunityoptions.org/wp-content/uploads/2025/08/NCO-Office-closed.png
END:VEVENT
BEGIN:VEVENT
DTSTART;VALUE=DATE:20251103
DTEND;VALUE=DATE:20251105
DTSTAMP:20260424T073758
CREATED:20250828T161403Z
LAST-MODIFIED:20250929T174210Z
UID:10000018-1762128000-1762300799@networkofcommunityoptions.org
SUMMARY:2025 DDPA Fall Conference
DESCRIPTION:The Developmental Disabilities Provider Association (DDPA) is proud to host its 2025 Fall Conference\, bringing together professionals\, advocates\, and community partners dedicated to advancing inclusive care. \n \nThis year’s keynote address will be delivered by Dr. Jacob Dent\, widely recognized as the Special Needs Warrior Doc. Dr. Dent is a nationally known advocate\, speaker\, and dentist whose work focuses on empowering individuals with developmental disabilities through accessible and compassionate healthcare. His keynote will highlight the importance of awareness and action in driving meaningful change. \nThe conference is presented in partnership with the Mayfair Sterling Family of Companies—@iProv\, Scale Technology\, The Martino Law Firm\, and Enterprise Accounting Partners—whose support makes this event possible.
URL:https://networkofcommunityoptions.org/event/2025-ddpa-fall-conference/
LOCATION:Texarkana Convention Center\, 4610 Cowhorn Creek Road\, Texarkana\, TX\, 75503\, United States
ATTACH;FMTTYPE=image/png:https://networkofcommunityoptions.org/wp-content/uploads/2025/08/Vertical_1-e1733419712198.png
ORGANIZER;CN="Developmental Disabilities Provider Association (DDPA)":MAILTO:ytaylor@ddpaarkansas.org
END:VEVENT
BEGIN:VEVENT
DTSTART;VALUE=DATE:20251017
DTEND;VALUE=DATE:20251018
DTSTAMP:20260424T073758
CREATED:20250530T200810Z
LAST-MODIFIED:20250606T152753Z
UID:10000005-1760659200-1760745599@networkofcommunityoptions.org
SUMMARY:Halloween Dance
DESCRIPTION:Get into the Halloween spirit with costumes\, dancing\, and festive fun! This event is a great way to enjoy the season with music\, treats\, and a few tricks along the way.
URL:https://networkofcommunityoptions.org/event/halloween-dance/
LOCATION:AR
ATTACH;FMTTYPE=image/jpeg:https://networkofcommunityoptions.org/wp-content/uploads/2025/05/NCO-group.jpg
END:VEVENT
BEGIN:VEVENT
DTSTART;VALUE=DATE:20250920
DTEND;VALUE=DATE:20250921
DTSTAMP:20260424T073758
CREATED:20250530T200743Z
LAST-MODIFIED:20250828T151337Z
UID:10000004-1758326400-1758412799@networkofcommunityoptions.org
SUMMARY:Boots and Bling Dance
DESCRIPTION:Join us for a lively evening of music\, dancing\, and community connection. Whether you love to dance or just enjoy good company\, this event offers something for everyone.
URL:https://networkofcommunityoptions.org/event/boots-and-bling-dance/
LOCATION:Desha Community Center\, 973 Heber Springs Rd\, Batesville\, AR\, 72501\, United States
END:VEVENT
BEGIN:VEVENT
DTSTART;TZID=America/Chicago:20250804T180000
DTEND;TZID=America/Chicago:20250804T213000
DTSTAMP:20260424T073758
CREATED:20250530T200639Z
LAST-MODIFIED:20250707T155052Z
UID:10000003-1754330400-1754343000@networkofcommunityoptions.org
SUMMARY:Movie Night at Melba
DESCRIPTION:Get ready for an unforgettable evening at the Melba Theater with a special Movie Night exclusively for NCO clients and employees! Enjoy a family-friendly film (to be announced) with free admission\, plus complimentary popcorn and drinks to make your night even sweeter. \nDoors open at 5:30 PM\, so come early to grab your seat! NCO T-shirts will also be available for purchase (cash or check only)\, and attendees may buy other concessions if they wish. \nDon’t miss this opportunity to relax\, connect with your NCO community\, and enjoy a night at the movies!
URL:https://networkofcommunityoptions.org/event/movie-night-at-melba/
LOCATION:Melba Theater\, 115 W Main St\, Batesville\, AR\, 72501\, United States
ATTACH;FMTTYPE=image/png:https://networkofcommunityoptions.org/wp-content/uploads/2025/05/Movie-Night-at-Melba-flyer.png
END:VEVENT
BEGIN:VEVENT
DTSTART;VALUE=DATE:20250611
DTEND;VALUE=DATE:20250612
DTSTAMP:20260424T073758
CREATED:20250530T200509Z
LAST-MODIFIED:20250606T152423Z
UID:10000002-1749600000-1749686399@networkofcommunityoptions.org
SUMMARY:Batesville Business Expo
DESCRIPTION:Connect with local businesses\, community leaders\, and neighbors at this annual expo. Learn about services\, explore opportunities\, and support small businesses in the area.
URL:https://networkofcommunityoptions.org/event/batesville-business-expo/
LOCATION:Batesville Community Center\, 1420 20th St\, Batesville\, AR\, 72501\, United States
ATTACH;FMTTYPE=image/jpeg:https://networkofcommunityoptions.org/wp-content/uploads/2025/05/batesville-business-expo2.jpg
END:VEVENT
BEGIN:VEVENT
DTSTART;VALUE=DATE:20250606
DTEND;VALUE=DATE:20250607
DTSTAMP:20260424T073758
CREATED:20250530T200403Z
LAST-MODIFIED:20250606T151022Z
UID:10000001-1749168000-1749254399@networkofcommunityoptions.org
SUMMARY:Jonesboro Fun Day and Snow Cone Social
DESCRIPTION:Celebrate the start of summer with an afternoon of outdoor games\, snow cones\, and family-friendly fun. It’s a great opportunity to enjoy time together\, meet new people\, and soak up some sunshine.
URL:https://networkofcommunityoptions.org/event/jonesboro-fun-day-and-snow-cone-social/
LOCATION:Miracle League Park\, 5101 Co Rd 126\, Jonesboro\, AR\, 72404\, United States
ATTACH;FMTTYPE=image/jpeg:https://networkofcommunityoptions.org/wp-content/uploads/2025/05/deepthi-clicks-s6x3z_vDciw-unsplash-scaled.jpg
END:VEVENT
END:VCALENDAR