BEGIN:VCALENDAR
VERSION:2.0
PRODID:-//Network of Community Options - ECPv6.15.17.1//NONSGML v1.0//EN
CALSCALE:GREGORIAN
METHOD:PUBLISH
X-WR-CALNAME:Network of Community Options
X-ORIGINAL-URL:https://networkofcommunityoptions.org
X-WR-CALDESC:Events for Network of Community Options
REFRESH-INTERVAL;VALUE=DURATION:PT1H
X-Robots-Tag:noindex
X-PUBLISHED-TTL:PT1H
BEGIN:VTIMEZONE
TZID:America/Chicago
BEGIN:DAYLIGHT
TZOFFSETFROM:-0600
TZOFFSETTO:-0500
TZNAME:CDT
DTSTART:20240310T080000
END:DAYLIGHT
BEGIN:STANDARD
TZOFFSETFROM:-0500
TZOFFSETTO:-0600
TZNAME:CST
DTSTART:20241103T070000
END:STANDARD
BEGIN:DAYLIGHT
TZOFFSETFROM:-0600
TZOFFSETTO:-0500
TZNAME:CDT
DTSTART:20250309T080000
END:DAYLIGHT
BEGIN:STANDARD
TZOFFSETFROM:-0500
TZOFFSETTO:-0600
TZNAME:CST
DTSTART:20251102T070000
END:STANDARD
BEGIN:DAYLIGHT
TZOFFSETFROM:-0600
TZOFFSETTO:-0500
TZNAME:CDT
DTSTART:20260308T080000
END:DAYLIGHT
BEGIN:STANDARD
TZOFFSETFROM:-0500
TZOFFSETTO:-0600
TZNAME:CST
DTSTART:20261101T070000
END:STANDARD
END:VTIMEZONE
BEGIN:VEVENT
DTSTART;VALUE=DATE:20250920
DTEND;VALUE=DATE:20250921
DTSTAMP:20260424T103228
CREATED:20250530T200743Z
LAST-MODIFIED:20250828T151337Z
UID:707-1758326400-1758412799@networkofcommunityoptions.org
SUMMARY:Boots and Bling Dance
DESCRIPTION:Join us for a lively evening of music\, dancing\, and community connection. Whether you love to dance or just enjoy good company\, this event offers something for everyone.
URL:https://networkofcommunityoptions.org/event/boots-and-bling-dance/
LOCATION:Desha Community Center\, 973 Heber Springs Rd\, Batesville\, AR\, 72501\, United States
END:VEVENT
END:VCALENDAR